BEGIN:VCALENDAR
VERSION:2.0
PRODID:-//Communauté CN - ECPv5.13.0//NONSGML v1.0//EN
CALSCALE:GREGORIAN
METHOD:PUBLISH
X-WR-CALNAME:Communauté CN
X-ORIGINAL-URL:https://communautecn.fr
X-WR-CALDESC:évènements pour Communauté CN
REFRESH-INTERVAL;VALUE=DURATION:PT1H
X-Robots-Tag:noindex
X-PUBLISHED-TTL:PT1H
BEGIN:VTIMEZONE
TZID:Europe/Paris
BEGIN:DAYLIGHT
TZOFFSETFROM:+0100
TZOFFSETTO:+0200
TZNAME:CEST
DTSTART:20220327T010000
END:DAYLIGHT
BEGIN:STANDARD
TZOFFSETFROM:+0200
TZOFFSETTO:+0100
TZNAME:CET
DTSTART:20221030T010000
END:STANDARD
END:VTIMEZONE
BEGIN:VEVENT
DTSTART;TZID=Europe/Paris:20220424T143000
DTEND;TZID=Europe/Paris:20220424T193000
DTSTAMP:20260419T223350
CREATED:20220328T102502Z
LAST-MODIFIED:20220429T092931Z
UID:14760-1650810600-1650828600@communautecn.fr
SUMMARY:Fête de la Miséricorde 2022
DESCRIPTION:[vc_row][vc_column icons_position=”left”][vc_column_text]Nous célèbrerons ensemble la Fête de la Miséricorde ! \nLe 24 avril 2022\, de 14h30 à 19h30\, une après-midi de prière et d’enseignements sur la Divine Miséricorde\, à l’église de la Nativité\, à la Garde. \nVoilà le programme : \n14h30 – Accueil\, louanges \n15h00 – chapelet de la miséricorde (transmis aussi en direct sur facebook !)\n15h15 – bénédiction et intronisation du tableau de Jésus Miséricordieux (transmis aussi en direct sur facebook !) \n15h30 – enseignement – P. Eder \n16h30 – Louange \n16h45 – Témoignage de Lorena \n17h – Adoration eucharistique \n18h30 – Messe[/vc_column_text][vc_single_image image=”13482″ img_size=”full”][/vc_column][/vc_row][vc_row][vc_column icons_position=”left”][vc_column_text] \nBénédiction du tableau\nAprès le chapelet de la Miséricorde aura lieu la bénédiction solennelle des tableaux de Jésus Miséricordieux. Vous pouvez apporter les vôtres ou vous en procurer un sur place.\nVous pouvez aussi télécharger le tableau sur ce lien et l’imprimer vous même. (La bénédiction sera aussi transmise en direct : vous pouvez imprimer votre tableau et le faire bénir de chez vous à ce moment-là !)[/vc_column_text][vc_btn title=”Télécharger le tableau” shape=”round” color=”sky” size=”sm” align=”center” link=”url:https%3A%2F%2Fbit.ly%2Ftableauj%C3%A9sus||target:%20_blank|rel:nofollow”][vc_column_text] \nL’histoire de la Fête de la Miséricorde\nLa fête de la Miséricorde est célébrée le premier dimanche après Pâques ou le deuxième dimanche de Pâques\, appelé actuellement Dimanche de la Divine Miséricorde. Cette fête a été instituée en 1985\, tout d’abord pour l’Archidiocèse de Cracovie par son pasteur\, Mgr le Cardinal Franciszek Macharski\, puis célébrée dans quelques autres diocèses de Pologne. Dix ans plus tard\, en 1995\, le Saint Père Jean Paul II l’a étendue sur tous les diocèses de Pologne\, à la demande expresse de l’Episcopat de Pologne. Le 30 avril 2000\, le deuxième dimanche de Pâques et le jour de la canonisation de sainte Faustine à Rome\, le Souverain Pontife Jean Paul II l’a instituée pour l’Eglise universelle.\nPour en savoir plus sur la fête de la Miséricorde\, découvrez le site officiel en français.[/vc_column_text][vc_btn title=”En savoir plus !” shape=”round” color=”sky” size=”sm” align=”center” link=”url:https%3A%2F%2Fwww.soeurfaustine.fr%2Ffete-de-la-misericorde%2F||target:%20_blank|rel:nofollow”][/vc_column][/vc_row]
URL:https://communautecn.fr/evenement/fete-de-la-misericorde-2022/
LOCATION:Eglise de la Garde\, Place de l'Eglise\, La Garde\, 83130\, France
CATEGORIES:Chapelet de la Miséricorde,Fête de la Miséricorde,Messe,Transmission en direct
ATTACH;FMTTYPE=image/png:https://communautecn.fr/wp-content/uploads/2022/03/post-site.png
ORGANIZER;CN="Communaut%C3%A9%20Can%C3%A7%C3%A3o%20Nova":MAILTO:evenements@chantnouveau.fr
END:VEVENT
BEGIN:VEVENT
DTSTART;TZID=Europe/Paris:20220202T183000
DTEND;TZID=Europe/Paris:20220202T200000
DTSTAMP:20260419T223350
CREATED:20211216T142950Z
LAST-MODIFIED:20220207T100335Z
UID:14446-1643826600-1643832000@communautecn.fr
SUMMARY:Renouvellement de nos engagements
DESCRIPTION:Le 2 février de chaque année\, jour anniversaire de sa fondation\, la Communauté Canção Nova se réunit pour célébrer et renouveler son engagement avec Dieu dans la Charisme Canção Nova. \nLa mission de la Communauté Canção Nova est d’évangéliser ! Et tous ceux qui se sont consacrés et se consacreront à cette œuvre de Dieu\, renouvellent cet engagement avec Dieu\, en assumant la responsabilité de l’appel à la sainteté. \nC’est pourquoi nous vous invitons à venir participer à la messe de renouvellement de nos engagements qui aura lieu le mercredi 2 février 2022 à 18h30 à l’église de la Nativité\, à la Garde. Nous comptons sur votre présence et sur votre prière !
URL:https://communautecn.fr/evenement/renouvellement-de-nos-engagements/
LOCATION:Eglise de la Garde\, Place de l'Eglise\, La Garde\, 83130\, France
CATEGORIES:Messe
ATTACH;FMTTYPE=image/png:https://communautecn.fr/wp-content/uploads/2021/12/Convite-2-fevrier.png
ORGANIZER;CN="Communaut%C3%A9%20Can%C3%A7%C3%A3o%20Nova":MAILTO:evenements@chantnouveau.fr
END:VEVENT
END:VCALENDAR